BEGIN:VCALENDAR
VERSION:2.0
PRODID:-//CTC Software - ECPv6.15.15//NONSGML v1.0//EN
CALSCALE:GREGORIAN
METHOD:PUBLISH
X-WR-CALNAME:CTC Software
X-ORIGINAL-URL:https://ctcsoftware.com
X-WR-CALDESC:Events for CTC Software
REFRESH-INTERVAL;VALUE=DURATION:PT1H
X-Robots-Tag:noindex
X-PUBLISHED-TTL:PT1H
BEGIN:VTIMEZONE
TZID:America/Chicago
BEGIN:DAYLIGHT
TZOFFSETFROM:-0600
TZOFFSETTO:-0500
TZNAME:CDT
DTSTART:20250309T080000
END:DAYLIGHT
BEGIN:STANDARD
TZOFFSETFROM:-0500
TZOFFSETTO:-0600
TZNAME:CST
DTSTART:20251102T070000
END:STANDARD
BEGIN:DAYLIGHT
TZOFFSETFROM:-0600
TZOFFSETTO:-0500
TZNAME:CDT
DTSTART:20260308T080000
END:DAYLIGHT
BEGIN:STANDARD
TZOFFSETFROM:-0500
TZOFFSETTO:-0600
TZNAME:CST
DTSTART:20261101T070000
END:STANDARD
BEGIN:DAYLIGHT
TZOFFSETFROM:-0600
TZOFFSETTO:-0500
TZNAME:CDT
DTSTART:20270314T080000
END:DAYLIGHT
BEGIN:STANDARD
TZOFFSETFROM:-0500
TZOFFSETTO:-0600
TZNAME:CST
DTSTART:20271107T070000
END:STANDARD
END:VTIMEZONE
BEGIN:VEVENT
DTSTART;TZID=America/Chicago:20260430T120000
DTEND;TZID=America/Chicago:20260430T130000
DTSTAMP:20260423T122138
CREATED:20260121T220827Z
LAST-MODIFIED:20260422T160022Z
UID:17527-1777550400-1777554000@ctcsoftware.com
SUMMARY:Project Cleanup with CTC
DESCRIPTION:Revit® project model maintenance can be disruptive to project teams. This maintenance can be very time consuming to do on a regular basis. Instead of manually tracking issues and manually fixing common problems\, your team can leverage tools from CTC to help automate the model maintenance cycle. In Part 4 of this multi-part series\, we will look at how to deal with non-company standard content and a way to perform tasks on multiple projects. \nLearning Objectives:\n1. How to Identify the issues\n2. Which tools help with reporting\n3. Which tools help with cleaning up the mess\n4. Which tools help with preventing issues from happening
URL:https://ctcsoftware.com/event/project-cleanup-with-ctc/
CATEGORIES:Webinars
END:VEVENT
END:VCALENDAR